BEGIN:VCALENDAR
VERSION:2.0
PRODID:-//Regmacart//ICS Generator//EN
BEGIN:VEVENT
UID:1775827048473@regmacart
DTSTAMP:20260410T131728Z
SUMMARY:Intensivseminar der BGGF Vorbereitung Facharztprüfung
DESCRIPTION:
LOCATION:Klinikum Dritter Orden, München
DTSTART:20270416T074500Z
DTEND:20270417T144500Z
STATUS:CONFIRMED
SEQUENCE:0
CLASS:PUBLIC
X-GENERATED-BY: Regmacart ICS Generator (https://regmacart.com/ics-calendar-generator)
BEGIN:VALARM
TRIGGER:-PT5760M
ACTION:DISPLAY
DESCRIPTION:Reminder
END:VALARM
END:VEVENT
END:VCALENDAR