BEGIN:VCALENDAR
VERSION:2.0
PRODID:-//ICS Generator//NONSGML ICS Generator//DE
BEGIN:VEVENT
UID:1777017441526-5k7hlw1?@ics-generator.de
DTSTAMP:20260424T075725Z
DTSTART;VALUE=DATE:20261115
DTEND;VALUE=DATE:20261119
SUMMARY:3-Tage Fortbildung. Intensivmed. Pflege
LOCATION:Schönblick Christliches Gästezentrum
BEGIN:VALARM
ACTION:DISPLAY
TRIGGER:-PT10080M
DESCRIPTION:Reminder
END:VALARM
END:VEVENT
END:VCALENDAR
